BEGIN:VCALENDAR
VERSION:2.0
PRODID:-//https://www.schrattenbach.at//NONSGML kigkonsult.se iCalcreator 2
 .29.29//
CALSCALE:GREGORIAN
METHOD:PUBLISH
UID:fb395fa9-141d-4bce-83c8-05f1bd6d0c0b
X-WR-CALNAME:JCal Pro Kalender
X-WR-CALDESC:Ihr Online-Terminkalender
X-WR-TIMEZONE:UTC
BEGIN:VTIMEZONE
TZID:UTC
END:VTIMEZONE
BEGIN:VEVENT
UID:20171212T180000UTC-297c3d@https://schrattenbach.at/
DTSTAMP:20260420T043928Z
CATEGORIES:Allgemein
DESCRIPTION:<p><strong>Die Dorfgemeinschaft ladet&nbsp\;zum Club-Cafe in di
 e Kulturwerkstätte.</strong><br />Die Kulturwerkstätte ist<strong> für ALL
 E geöffnet</strong>\, um bei dem einen oder anderen Getränk in geselliger 
 Runde zusammen zu sitzen.</p>
DTSTART:20181023T180000Z
DTEND:20181023T180000Z
RRULE:FREQ=WEEKLY;UNTIL=20190627T000000Z;INTERVAL=1;BYDAY=TU
SUMMARY:Club-Café der Dorfgemeinschaft
URL:https://www.schrattenbach.at/kalender-wochenansicht/14-allgemein/6778-c
 lub-cafe-der-dorfgemeinschaft
X-ALT-DESC;FMTTYPE=TEXT/HTML:<p><strong>Die Dorfgemeinschaft ladet&nbsp\;zu
 m Club-Cafe in die Kulturwerkstätte.</strong><br />Die Kulturwerkstätte is
 t<strong> für ALLE geöffnet</strong>\, um bei dem einen oder anderen Geträ
 nk in geselliger Runde zusammen zu sitzen.</p>
END:VEVENT
END:VCALENDAR
