BEGIN:VCALENDAR
VERSION:2.0
PRODID:-//https://www.schrattenbach.at//NONSGML kigkonsult.se iCalcreator 2
 .29.29//
CALSCALE:GREGORIAN
METHOD:PUBLISH
UID:38829ee3-984e-4d38-833b-dcc4f2929e89
X-WR-CALNAME:JCal Pro Kalender
X-WR-CALDESC:Ihr Online-Terminkalender
X-WR-TIMEZONE:UTC
BEGIN:VTIMEZONE
TZID:UTC
END:VTIMEZONE
BEGIN:VEVENT
UID:20230110T120000UTC-9480rWPUoI@https://schrattenbach.at/
DTSTAMP:20260424T180839Z
CATEGORIES:Müllabfuhr
DTSTART:20240528T000000Z
DTEND:20240528T235959Z
SUMMARY:Papier Tonne 2024
URL:https://www.schrattenbach.at/kalender-wochenansicht/17-muellabfuhr/1112
 3-papier-tonne-2024
END:VEVENT
END:VCALENDAR
