BEGIN:VCALENDAR
VERSION:2.0
PRODID:-//https://www.schrattenbach.at//NONSGML kigkonsult.se iCalcreator 2
 .29.29//
CALSCALE:GREGORIAN
METHOD:PUBLISH
UID:9ce818d3-6753-43dd-9281-dbc1a158b21e
X-WR-CALNAME:JCal Pro Kalender
X-WR-CALDESC:Ihr Online-Terminkalender
X-WR-TIMEZONE:UTC
BEGIN:VTIMEZONE
TZID:UTC
END:VTIMEZONE
BEGIN:VEVENT
UID:20250203T120000UTC-7001ozug26@https://schrattenbach.at/
DTSTAMP:20260419T231031Z
CATEGORIES:Müllabfuhr
DTSTART:20260202T000000Z
DTEND:20260202T235959Z
RRULE:FREQ=WEEKLY;UNTIL=20261231T000000Z;INTERVAL=8;BYDAY=MO
SUMMARY:Restmülltonne 2026
URL:https://www.schrattenbach.at/kalender-wochenansicht/17-muellabfuhr/1212
 1-restmuelltonne-2026
END:VEVENT
END:VCALENDAR
