BEGIN:VCALENDAR
VERSION:2.0
PRODID:-//https://www.schrattenbach.at//NONSGML kigkonsult.se iCalcreator 2
 .29.29//
CALSCALE:GREGORIAN
METHOD:PUBLISH
UID:d758901d-5bd1-48d2-9bdc-5cd2d2cab4d0
X-WR-CALNAME:JCal Pro Kalender
X-WR-CALDESC:Ihr Online-Terminkalender
X-WR-TIMEZONE:UTC
BEGIN:VTIMEZONE
TZID:UTC
END:VTIMEZONE
BEGIN:VEVENT
UID:20250127T120000UTC-7130NNhxvd@https://schrattenbach.at/
DTSTAMP:20260419T172816Z
CATEGORIES:Müllabfuhr
DTSTART:20261127T000000Z
DTEND:20261127T235959Z
SUMMARY:Gelber Sack 2026
URL:https://www.schrattenbach.at/kalender-wochenansicht/17-muellabfuhr/1216
 6-gelber-sack-2026
END:VEVENT
END:VCALENDAR
