BEGIN:VCALENDAR
VERSION:2.0
PRODID:-//https://www.schrattenbach.at//NONSGML kigkonsult.se iCalcreator 2
 .29.29//
CALSCALE:GREGORIAN
METHOD:PUBLISH
UID:16c2391b-92e6-4b24-94e1-ca5e5f50cb5e
X-WR-CALNAME:JCal Pro Kalender
X-WR-CALDESC:Ihr Online-Terminkalender
X-WR-TIMEZONE:UTC
BEGIN:VTIMEZONE
TZID:UTC
END:VTIMEZONE
BEGIN:VEVENT
UID:20260128T120000UTC-0227gWCv5x@https://schrattenbach.at/
DTSTAMP:20260419T230722Z
CATEGORIES:Müllabfuhr
DTSTART:20270107T000000Z
DTEND:20270107T235959Z
SUMMARY:Biotonne 2027
URL:https://www.schrattenbach.at/kalender-wochenansicht/17-muellabfuhr/1225
 5-biotonne-2027
END:VEVENT
END:VCALENDAR
