BEGIN:VCALENDAR
VERSION:2.0
PRODID:-//https://www.schrattenbach.at//NONSGML kigkonsult.se iCalcreator 2
 .29.29//
CALSCALE:GREGORIAN
METHOD:PUBLISH
UID:6e146d7c-7632-4b96-b46d-be4268a9d5f4
X-WR-CALNAME:JCal Pro Kalender
X-WR-CALDESC:Ihr Online-Terminkalender
X-WR-TIMEZONE:UTC
BEGIN:VTIMEZONE
TZID:UTC
END:VTIMEZONE
BEGIN:VEVENT
UID:20260203T120000UTC-4297znv4t0@https://schrattenbach.at/
DTSTAMP:20260419T230843Z
CATEGORIES:Müllabfuhr
DTSTART:20270105T000000Z
DTEND:20270105T235959Z
SUMMARY:Papier Tonne 2027
URL:https://www.schrattenbach.at/kalender-wochenansicht/17-muellabfuhr/1226
 8-papier-tonne-2027
END:VEVENT
END:VCALENDAR
