BEGIN:VCALENDAR
VERSION:2.0
PRODID:-//https://www.schrattenbach.at//NONSGML kigkonsult.se iCalcreator 2
 .29.29//
CALSCALE:GREGORIAN
METHOD:PUBLISH
UID:4413d469-1d26-4d16-ba65-3a8c29904b58
X-WR-CALNAME:JCal Pro Kalender
X-WR-CALDESC:Ihr Online-Terminkalender
X-WR-TIMEZONE:UTC
BEGIN:VTIMEZONE
TZID:UTC
END:VTIMEZONE
BEGIN:VEVENT
UID:20200619T160000UTC-dac514@https://schrattenbach.at/
DTSTAMP:20260419T232217Z
CATEGORIES:Müllabfuhr
DESCRIPTION:<p>zwischen 16 und 18 Uhr beim Sammelplatz in Rosental</p>
DTSTART:20210409T160000Z
DTEND:20210409T180000Z
SUMMARY:SONDERMÜLLSAMMLUNG 2021
URL:https://www.schrattenbach.at/kalender-wochenansicht/17-muellabfuhr/7663
 -sondermuellsammlung-2021
X-ALT-DESC;FMTTYPE=TEXT/HTML:<p>zwischen 16 und 18 Uhr beim Sammelplatz in 
 Rosental</p>
END:VEVENT
END:VCALENDAR
