BEGIN:VCALENDAR
VERSION:2.0
PRODID:-//https://www.schrattenbach.at//NONSGML kigkonsult.se iCalcreator 2
 .29.29//
CALSCALE:GREGORIAN
METHOD:PUBLISH
UID:4ad51ff9-64a2-4033-967d-88c344ff6233
X-WR-CALNAME:JCal Pro Kalender
X-WR-CALDESC:Ihr Online-Terminkalender
X-WR-TIMEZONE:UTC
BEGIN:VTIMEZONE
TZID:UTC
END:VTIMEZONE
BEGIN:VEVENT
UID:20200117T120000UTC-42c3db@https://schrattenbach.at/
DTSTAMP:20260420T072425Z
CATEGORIES:Müllabfuhr
DTSTART:20210416T120000Z
DTEND:20210416T120000Z
SUMMARY:Biotonne
URL:https://www.schrattenbach.at/kalender-wochenansicht/17-muellabfuhr/7708
 -biotonne
END:VEVENT
END:VCALENDAR
