BEGIN:VCALENDAR
VERSION:2.0
PRODID:-//https://www.schrattenbach.at//NONSGML kigkonsult.se iCalcreator 2
 .29.29//
CALSCALE:GREGORIAN
METHOD:PUBLISH
UID:b7ae877b-12fc-4f1a-a5e3-13a2b1680838
X-WR-CALNAME:JCal Pro Kalender
X-WR-CALDESC:Ihr Online-Terminkalender
X-WR-TIMEZONE:UTC
BEGIN:VTIMEZONE
TZID:UTC
END:VTIMEZONE
BEGIN:VEVENT
UID:20250203T120000UTC-7001ozug26@https://schrattenbach.at/
DTSTAMP:20260419T180417Z
CATEGORIES:Müllabfuhr
DTSTART:20260202T000000Z
DTEND:20260202T235959Z
RRULE:FREQ=WEEKLY;UNTIL=20261231T000000Z;INTERVAL=8;BYDAY=MO
SUMMARY:Restmülltonne 2026
URL:https://www.schrattenbach.at/kalender-wochenansicht/17-muellabfuhr/1212
 1-restmuelltonne-2026
END:VEVENT
BEGIN:VEVENT
UID:20250107T120000UTC-7073fuiOUv@https://schrattenbach.at/
DTSTAMP:20260419T180417Z
CATEGORIES:Müllabfuhr
DTSTART:20260203T000000Z
DTEND:20260203T235959Z
RRULE:FREQ=WEEKLY;UNTIL=20261231T000000Z;INTERVAL=8;BYDAY=TU
SUMMARY:Papier Tonne 2026
URL:https://www.schrattenbach.at/kalender-wochenansicht/17-muellabfuhr/1221
 2-papier-tonne-2026
END:VEVENT
BEGIN:VEVENT
UID:20260128T120000UTC-0936iRRCXR@https://schrattenbach.at/
DTSTAMP:20260419T180417Z
CATEGORIES:Müllabfuhr
DTSTART:20260408T000000Z
DTEND:20260408T235959Z
RRULE:FREQ=WEEKLY;UNTIL=20260930T000000Z;INTERVAL=4;BYDAY=WE
SUMMARY:Biotonne 2026
URL:https://www.schrattenbach.at/kalender-wochenansicht/17-muellabfuhr/1219
 3-biotonne-2026
END:VEVENT
BEGIN:VEVENT
UID:20250127T120000UTC-7130NNhxvd@https://schrattenbach.at/
DTSTAMP:20260419T180417Z
CATEGORIES:Müllabfuhr
DTSTART:20260126T000000Z
DTEND:20260126T235959Z
EXDATE:20261127T120000Z
RRULE:FREQ=WEEKLY;UNTIL=20261231T000000Z;INTERVAL=4;BYDAY=MO
SUMMARY:Gelber Sack 2026
URL:https://www.schrattenbach.at/kalender-wochenansicht/17-muellabfuhr/1214
 3-gelber-sack-2026
END:VEVENT
BEGIN:VEVENT
UID:20250115T120000UTC-6765UjMTgh@https://schrattenbach.at/
DTSTAMP:20260419T180417Z
CATEGORIES:Müllabfuhr
DTSTART:20261014T000000Z
DTEND:20261014T235959Z
SUMMARY:Biotonne 2026
URL:https://www.schrattenbach.at/kalender-wochenansicht/17-muellabfuhr/1218
 9-biotonne-2026
END:VEVENT
BEGIN:VEVENT
UID:20250115T120000UTC-6765UjMTgh@https://schrattenbach.at/
DTSTAMP:20260419T180417Z
CATEGORIES:Müllabfuhr
DTSTART:20261111T000000Z
DTEND:20261111T235959Z
SUMMARY:Biotonne 2026
URL:https://www.schrattenbach.at/kalender-wochenansicht/17-muellabfuhr/1219
 0-biotonne-2026
END:VEVENT
BEGIN:VEVENT
UID:20250127T120000UTC-7130NNhxvd@https://schrattenbach.at/
DTSTAMP:20260419T180417Z
CATEGORIES:Müllabfuhr
DTSTART:20261127T000000Z
DTEND:20261127T235959Z
SUMMARY:Gelber Sack 2026
URL:https://www.schrattenbach.at/kalender-wochenansicht/17-muellabfuhr/1216
 6-gelber-sack-2026
END:VEVENT
BEGIN:VEVENT
UID:20250115T120000UTC-6765UjMTgh@https://schrattenbach.at/
DTSTAMP:20260419T180417Z
CATEGORIES:Müllabfuhr
DTSTART:20261209T000000Z
DTEND:20261209T235959Z
SUMMARY:Biotonne 2026
URL:https://www.schrattenbach.at/kalender-wochenansicht/17-muellabfuhr/1219
 1-biotonne-2026
END:VEVENT
BEGIN:VEVENT
UID:20260202T120000UTC-8845FuVxO0@https://schrattenbach.at/
DTSTAMP:20260419T180417Z
CATEGORIES:Müllabfuhr
DTSTART:20270104T000000Z
DTEND:20270104T235959Z
SUMMARY:Restmülltonne 2027
URL:https://www.schrattenbach.at/kalender-wochenansicht/17-muellabfuhr/1224
 9-restmuelltonne-2027
END:VEVENT
BEGIN:VEVENT
UID:20260203T120000UTC-4297znv4t0@https://schrattenbach.at/
DTSTAMP:20260419T180417Z
CATEGORIES:Müllabfuhr
DTSTART:20270105T000000Z
DTEND:20270105T235959Z
SUMMARY:Papier Tonne 2027
URL:https://www.schrattenbach.at/kalender-wochenansicht/17-muellabfuhr/1226
 8-papier-tonne-2027
END:VEVENT
BEGIN:VEVENT
UID:20260128T120000UTC-0227gWCv5x@https://schrattenbach.at/
DTSTAMP:20260419T180417Z
CATEGORIES:Müllabfuhr
DTSTART:20270107T000000Z
DTEND:20270107T235959Z
SUMMARY:Biotonne 2027
URL:https://www.schrattenbach.at/kalender-wochenansicht/17-muellabfuhr/1225
 5-biotonne-2027
END:VEVENT
END:VCALENDAR
