BEGIN:VCALENDAR
VERSION:2.0
PRODID:-//https://www.schrattenbach.at//NONSGML kigkonsult.se iCalcreator 2
 .29.29//
CALSCALE:GREGORIAN
METHOD:PUBLISH
UID:4ce07328-2a50-4a49-8e3f-d36a21d571a8
X-WR-CALNAME:JCal Pro Kalender
X-WR-CALDESC:Ihr Online-Terminkalender
X-WR-TIMEZONE:UTC
BEGIN:VTIMEZONE
TZID:UTC
END:VTIMEZONE
BEGIN:VEVENT
UID:20180325T100000UTC-2136VPcL3I@https://schrattenbach.at/
DTSTAMP:20260423T004859Z
CATEGORIES:Veranstaltungen
DESCRIPTION:<p>Hl. Messe - Palmweihe bei der Schule anschließend Prozession
  in die Kirche </p>
DTSTART:20240324T100000Z
DTEND:20240324T100000Z
SUMMARY:Palmweihe & Prozession 2024
URL:https://www.schrattenbach.at/kalender-wochenansicht/24-veranstaltungen/
 11177-palmweihe-prozession-2024
X-ALT-DESC;FMTTYPE=TEXT/HTML:<p>Hl. Messe - Palmweihe bei der Schule anschl
 ießend Prozession in die Kirche </p>
END:VEVENT
END:VCALENDAR
