BEGIN:VCALENDAR
VERSION:2.0
PRODID:-//https://www.schrattenbach.at//NONSGML kigkonsult.se iCalcreator 2
 .29.29//
CALSCALE:GREGORIAN
METHOD:PUBLISH
UID:3af30112-e206-43ae-88d5-e70dcbb2e8be
X-WR-CALNAME:JCal Pro Kalender
X-WR-CALDESC:Ihr Online-Terminkalender
X-WR-TIMEZONE:UTC
BEGIN:VTIMEZONE
TZID:UTC
END:VTIMEZONE
BEGIN:VEVENT
UID:20190519T110000UTC-0e2f10@https://schrattenbach.at/
DTSTAMP:20260420T192722Z
CATEGORIES:Veranstaltungen
DESCRIPTION:<p>Frühschoppen ab 11:00 Uhr im B26 Reifenstüberl</p>
DTSTART:20190519T110000Z
DTEND:20190519T110000Z
SUMMARY:Frühschoppen B26 Reifenstüberl
URL:https://www.schrattenbach.at/kalender-wochenansicht/24-veranstaltungen/
 7309-fruehschoppen-b26-reifenstueberl
X-ALT-DESC;FMTTYPE=TEXT/HTML:<p>Frühschoppen ab 11:00 Uhr im B26 Reifenstüb
 erl</p>
END:VEVENT
END:VCALENDAR
