BEGIN:VCALENDAR
VERSION:2.0
PRODID:-//https://www.schrattenbach.at//NONSGML kigkonsult.se iCalcreator 2
 .29.29//
CALSCALE:GREGORIAN
METHOD:PUBLISH
UID:4465f554-bf5f-48cb-b693-1d009c288ae8
X-WR-CALNAME:JCal Pro Kalender
X-WR-CALDESC:Ihr Online-Terminkalender
X-WR-TIMEZONE:UTC
BEGIN:VTIMEZONE
TZID:UTC
END:VTIMEZONE
BEGIN:VEVENT
UID:20220521T100000UTC-7383Thudbk@https://schrattenbach.at/
DTSTAMP:20260421T061028Z
CATEGORIES:Heurigen
DESCRIPTION:<p>Mostheuriger bei Fam. Steurer am Gutenmann</p>\n<p>von 6.–7.
 \, 13.–14.\, 20.–21.\, 27.–28. Mai 2023</p>\n<p>Tel.: 02637/3424</p>
DTSTART:20230506T160000Z
DTEND:20230506T160000Z
RRULE:FREQ=WEEKLY;UNTIL=20230529T000000Z;INTERVAL=1;BYDAY=SA
SUMMARY:Mostheuriger Steurer 2023
URL:https://www.schrattenbach.at/kalender-wochenansicht/25-heurigen/8152-mo
 stheuriger-steurer-2023
X-ALT-DESC;FMTTYPE=TEXT/HTML:<p>Mostheuriger bei Fam. Steurer am Gutenmann<
 /p>\n<p>von 6.–7.\, 13.–14.\, 20.–21.\, 27.–28. Mai 2023</p>\n<p>Tel.: 026
 37/3424</p>
END:VEVENT
END:VCALENDAR
