BEGIN:VCALENDAR
VERSION:2.0
PRODID:-//https://www.schrattenbach.at//NONSGML kigkonsult.se iCalcreator 2
 .29.29//
CALSCALE:GREGORIAN
METHOD:PUBLISH
UID:15a62141-f896-4143-b242-25bd075cb666
X-WR-CALNAME:JCal Pro Kalender
X-WR-CALDESC:Ihr Online-Terminkalender
X-WR-TIMEZONE:UTC
BEGIN:VTIMEZONE
TZID:UTC
END:VTIMEZONE
BEGIN:VEVENT
UID:20230506T160000UTC-94907UDmOu@https://schrattenbach.at/
DTSTAMP:20260424T093433Z
CATEGORIES:Heurigen
DESCRIPTION:<p>Mostheuriger bei Fam. Steurer am Gutenmann</p>\n<p>von 6.–7.
 \, 13.–14.\, 20.–21.\, 27.–29. Mai 2023</p>\n<p>Tel.: 02637/3424</p>
DTSTART:20230507T120000Z
DTEND:20230507T120000Z
RRULE:FREQ=WEEKLY;UNTIL=20230530T000000Z;INTERVAL=1;BYDAY=SU,MO
SUMMARY:Mostheuriger Steurer 2023
URL:https://www.schrattenbach.at/kalender-wochenansicht/25-heurigen/11002-m
 ostheuriger-steurer-2023
X-ALT-DESC;FMTTYPE=TEXT/HTML:<p>Mostheuriger bei Fam. Steurer am Gutenmann<
 /p>\n<p>von 6.–7.\, 13.–14.\, 20.–21.\, 27.–29. Mai 2023</p>\n<p>Tel.: 026
 37/3424</p>
END:VEVENT
END:VCALENDAR
