BEGIN:VCALENDAR
VERSION:2.0
PRODID:-//https://www.schrattenbach.at//NONSGML kigkonsult.se iCalcreator 2
 .29.29//
CALSCALE:GREGORIAN
METHOD:PUBLISH
UID:35e4a677-b631-4d2d-8b93-338460e8afe1
X-WR-CALNAME:JCal Pro Kalender
X-WR-CALDESC:Ihr Online-Terminkalender
X-WR-TIMEZONE:UTC
BEGIN:VTIMEZONE
TZID:UTC
END:VTIMEZONE
BEGIN:VEVENT
UID:20220803T100000UTC-8989TWW6fj@https://schrattenbach.at/
DTSTAMP:20260421T055755Z
CATEGORIES:Heurigen
DESCRIPTION:<p>Mostheuriger bei Fam. Steurer am Gutenmann</p>\n<p>von 21. b
 is 22.05.2022\, 28. bis 29.05.2022 und 04. bis 06.06.2022</p>\n<p>Tel.: 02
 637/3424</p>
DTSTART:20220521T100000Z
DTEND:20220521T100000Z
RRULE:FREQ=DAILY;UNTIL=20220522T000000Z;INTERVAL=1
SUMMARY:Mostheuriger Steurer
URL:https://www.schrattenbach.at/kalender-wochenansicht/25-heurigen/7964-mo
 stheuriger-steurer
X-ALT-DESC;FMTTYPE=TEXT/HTML:<p>Mostheuriger bei Fam. Steurer am Gutenmann<
 /p>\n<p>von 21. bis 22.05.2022\, 28. bis 29.05.2022 und 04. bis 06.06.2022
 </p>\n<p>Tel.: 02637/3424</p>
END:VEVENT
END:VCALENDAR
