BEGIN:VCALENDAR
VERSION:2.0
PRODID:-//https://www.schrattenbach.at//NONSGML kigkonsult.se iCalcreator 2
 .29.29//
CALSCALE:GREGORIAN
METHOD:PUBLISH
UID:51dc3a8f-8dec-4379-89c6-28c35ff5fff6
X-WR-CALNAME:JCal Pro Kalender
X-WR-CALDESC:Ihr Online-Terminkalender
X-WR-TIMEZONE:UTC
BEGIN:VTIMEZONE
TZID:UTC
END:VTIMEZONE
BEGIN:VEVENT
UID:20220817T100000UTC-990786N0k9@https://schrattenbach.at/
DTSTAMP:20260423T103106Z
CATEGORIES:Heurigen
DESCRIPTION:<p>Mostheuriger bei Fam. Jäger Peter</p>\n<p>vom 16. - 20. Aug.
  2023</p>\n<p>am Obersberg 1\, 2733 Grünbach</p>\n<p>Tel.: 02637/2020</p>
DTSTART:20230816T100000Z
DTEND:20230816T100000Z
RRULE:FREQ=DAILY;COUNT=5;INTERVAL=1
SUMMARY:Mostheuriger Jäger Peter 2023
URL:https://www.schrattenbach.at/kalender-wochenansicht/25-heurigen/8190-mo
 stheuriger-jaeger-peter-2023
X-ALT-DESC;FMTTYPE=TEXT/HTML:<p>Mostheuriger bei Fam. Jäger Peter</p>\n<p>v
 om 16. - 20. Aug. 2023</p>\n<p>am Obersberg 1\, 2733 Grünbach</p>\n<p>Tel.
 : 02637/2020</p>
END:VEVENT
END:VCALENDAR
